0.000023143742906
0
0
-0.000023144074812
120.980475794497735
15.205207007742288
