0.000023128778800
0
0
-0.000023143883885
120.693932296620304
14.867042220364535
