0.000023151410041
0
0
-0.000023142048403
121.122346711716233
15.298283391834815
